BEGIN:VCALENDAR
METHOD:PUBLISH
PRODID:-//LogicWorks GmbH//NONSGML Contentory//EN
VERSION:2.0
CALSCALE:GREGORIAN
X-MS-OLK-FORCEINSPECTOROPEN:TRUE
BEGIN:VEVENT
DTSTAMP:20260421T103434Z
SUMMARY:JP-DE collaborations in Horizon Europe
DESCRIPTION:Die Nationalen Kontaktstellen aus Japan und Deutschland organisieren am 2.
  Dezember 2025 in Zusammenarbeit mit den Partnern des Enterprise Europe Ne
 twork (EEN) EU-Japan und dem Steinbeis Europa Zentrum das Webinar „JP-DE
  collaborations in Horizon Europe“ (in englischer Sprache).
LOCATION:Online
CREATED:20251020T135747
LAST-MODIFIED:20251021T093827
DTSTART;VALUE=DATE:20251202T083000
DTEND;VALUE=DATE:20251202T103000
UID:sn_1861_date_0@logic-works.net
END:VEVENT
END:VCALENDAR