BEGIN:VCALENDAR
METHOD:PUBLISH
PRODID:-//LogicWorks GmbH//NONSGML Contentory//EN
VERSION:2.0
CALSCALE:GREGORIAN
X-MS-OLK-FORCEINSPECTOROPEN:TRUE
BEGIN:VEVENT
DTSTAMP:20260425T060401Z
SUMMARY:IP in Horizon Projects (H2020/HEurope)
DESCRIPTION:Der European IP Helpdesk veranstaltet am 29. September 2022 ein Webinar zu
 m Thema geistiges Eigentum in Horizont 2020 und Horizont Europa Projekten.
LOCATION:Online
CREATED:20220812T101337
LAST-MODIFIED:20220812T101337
DTSTART;VALUE=DATE:20220929T103000
DTEND;VALUE=DATE:20220929T120000
UID:sn_567_date_0@logic-works.net
END:VEVENT
END:VCALENDAR