BEGIN:VCALENDAR
METHOD:PUBLISH
PRODID:-//LogicWorks GmbH//NONSGML Contentory//EN
VERSION:2.0
CALSCALE:GREGORIAN
X-MS-OLK-FORCEINSPECTOROPEN:TRUE
BEGIN:VEVENT
DTSTAMP:20260423T164345Z
SUMMARY:Internet-of-Things Woche findet vom 30.08.21 bis 03.09.21 virtuell statt
DESCRIPTION:Das Internet-of-Things (IoT) Forum veranstaltet zum elften Mal die IoT Woc
 he mit dem diesjährigen Schwerpunkt auf Lösungen zur Bekämpfung des Kli
 mawandels und auf innovativen Entwicklungen rund um das Thema Nachhaltigke
 it
LOCATION:online
CREATED:20210824T100459
LAST-MODIFIED:20210824T102813
DTSTART;VALUE=DATE:20210830T103000
DTEND;VALUE=DATE:20210903T164500
UID:sn_280_date_0@logic-works.net
END:VEVENT
END:VCALENDAR