BEGIN:VCALENDAR
METHOD:PUBLISH
PRODID:-//LogicWorks GmbH//NONSGML Contentory//EN
VERSION:2.0
CALSCALE:GREGORIAN
X-MS-OLK-FORCEINSPECTOROPEN:TRUE
BEGIN:VEVENT
DTSTAMP:20260425T200835Z
SUMMARY:Informationsveranstaltung zu Fördermöglichkeiten für digitale Projekte
DESCRIPTION:Die IB.SH lädt zu einer Informationsveranstaltung zu den Fördermöglichk
 eiten von EU\, Bund und Land nach Kiel ein.
LOCATION:Investitionsbank Schleswig-Holstein
CREATED:20230117T114613
LAST-MODIFIED:20230117T155352
DTSTART;VALUE=DATE:20230202T090000
DTEND;VALUE=DATE:20230202T133000
UID:sn_687_date_0@logic-works.net
END:VEVENT
END:VCALENDAR