BEGIN:VCALENDAR
METHOD:PUBLISH
PRODID:-//LogicWorks GmbH//NONSGML Contentory//EN
VERSION:2.0
CALSCALE:GREGORIAN
X-MS-OLK-FORCEINSPECTOROPEN:TRUE
BEGIN:VEVENT
DTSTAMP:20260423T163709Z
SUMMARY:Infosession zur kommenden EU-Partnerschaft "Innovative Advanced Materials 
 for Europe"
DESCRIPTION:Die Advanced Materials 2030 Initiative und das Graphene Flagship veranstal
 ten ein Webinar zu den Vorbereitungen für die Partnerschaft „Innovative
  Advanced Materials for Europe“.
LOCATION:Online
CREATED:20240308T140408
LAST-MODIFIED:20240308T140408
DTSTART;VALUE=DATE:20240313T090000
DTEND;VALUE=DATE:20240313T113000
UID:sn_951_date_0@logic-works.net
END:VEVENT
END:VCALENDAR