BEGIN:VCALENDAR
METHOD:PUBLISH
PRODID:-//LogicWorks GmbH//NONSGML Contentory//EN
VERSION:2.0
CALSCALE:GREGORIAN
X-MS-OLK-FORCEINSPECTOROPEN:TRUE
BEGIN:VEVENT
DTSTAMP:20260419T122328Z
SUMMARY:Informationsveranstaltung zu EU-Fördermöglichkeiten in Horizont Europa C
 luster 4 - Digitalisierung\, Industrie und Weltraum
DESCRIPTION:Diese Informationsveranstaltung des Steinbeis Europa Zentrums in Kooperati
 on mit der NKS DIT und der NKS Raumfahrt bietet eine umfassende Einführun
 g in die EU-Fördermöglichkeiten des Cluster 4 – Digitalisierung\, Indu
 strie und Weltraum im Rahmen des Programms Horizont Europa.
LOCATION:Online
CREATED:20241126T125836
LAST-MODIFIED:20241126T134214
DTSTART;VALUE=DATE:20241209T113000
DTEND;VALUE=DATE:20241209T124500
UID:sn_1323_date_0@logic-works.net
END:VEVENT
END:VCALENDAR