BEGIN:VCALENDAR
METHOD:PUBLISH
PRODID:-//LogicWorks GmbH//NONSGML Contentory//EN
VERSION:2.0
CALSCALE:GREGORIAN
X-MS-OLK-FORCEINSPECTOROPEN:TRUE
BEGIN:VEVENT
DTSTAMP:20260423T135118Z
SUMMARY:Research Fund for Coal and Steel: Info Day - Annual Call 2025
DESCRIPTION:Die EU-Kommission veranstaltet einen Info Tag für die jährliche Aufforde
 rung zur Einreichung von Anträgen des Forschungsfonds für Kohle und Stah
 l (RFCS) 2025. Der Infotag wird weitere Informationen zu den Themen der Au
 sschreibung und den bewährten Verfahren für eine erfolgreiche Einreichun
 g enthalten.
LOCATION:North Light building
CREATED:20250618T082345
LAST-MODIFIED:20250618T082345
DTSTART;VALUE=DATE:20250703T093000
DTEND;VALUE=DATE:20250703T130000
UID:sn_1624_date_0@logic-works.net
END:VEVENT
END:VCALENDAR