BEGIN:VCALENDAR
METHOD:PUBLISH
PRODID:-//LogicWorks GmbH//NONSGML Contentory//EN
VERSION:2.0
CALSCALE:GREGORIAN
X-MS-OLK-FORCEINSPECTOROPEN:TRUE
BEGIN:VEVENT
DTSTAMP:20260423T195327Z
SUMMARY:Info session on Horizon Results Booster – steering research towards a st
 rong societal impact
DESCRIPTION:Die EU-Kommission veranstaltet am 17. November 2022 eine Informationsveran
 staltung zur "Horizon Results Booster"-Initiative.
LOCATION:Online
CREATED:20221102T142610
LAST-MODIFIED:20221102T154454
DTSTART;VALUE=DATE:20221117T100000
DTEND;VALUE=DATE:20221117T123000
UID:sn_624_date_0@logic-works.net
END:VEVENT
END:VCALENDAR