BEGIN:VCALENDAR
METHOD:PUBLISH
PRODID:-//LogicWorks GmbH//NONSGML Contentory//EN
VERSION:2.0
CALSCALE:GREGORIAN
X-MS-OLK-FORCEINSPECTOROPEN:TRUE
BEGIN:VEVENT
DTSTAMP:20260423T121537Z
SUMMARY:Horizon Results Booster: Bring a continual stream of innovation to the mar
 ket and beyond
DESCRIPTION:Die EU-Kommission veranstaltet am 5. Oktober 2021 eine Informationsveranst
 altung zum Thema wie ein kontinuierlicher Innovationsstrom auf den Markt u
 nd darüber hinaus gebracht werden kann.
LOCATION:online
CREATED:20210921T143909
LAST-MODIFIED:20210921T144023
DTSTART;VALUE=DATE:20211005T100000
DTEND;VALUE=DATE:20211005T120000
UID:sn_296_date_0@logic-works.net
END:VEVENT
END:VCALENDAR