BEGIN:VCALENDAR
METHOD:PUBLISH
PRODID:-//LogicWorks GmbH//NONSGML Contentory//EN
VERSION:2.0
CALSCALE:GREGORIAN
X-MS-OLK-FORCEINSPECTOROPEN:TRUE
BEGIN:VEVENT
DTSTAMP:20260424T175436Z
SUMMARY:Aktuelle Informationen zu den Europäischen Partnerschaften (NKS DIT Webin
 ar)
DESCRIPTION:Die NKS DIT lädt zu einer Vorstellung der neusten Informationen rund um d
 ie Europäischen Partnerschaften ein. Ein spezieller Fokus wird auf den ko
 -programmierten Partnerschaften in Cluster 4 liegen. Darüber hinaus gibt 
 es durch den Erfahrungsbericht eines Multiplikators unmittelbare Einblicke
  in die Partnerschaftsbeteiligung.
LOCATION:Online
CREATED:20240516T112613
LAST-MODIFIED:20240611T142143
DTSTART;VALUE=DATE:20240614T100000
DTEND;VALUE=DATE:20240614T120000
UID:sn_1073_date_0@logic-works.net
END:VEVENT
END:VCALENDAR