BEGIN:VCALENDAR
METHOD:PUBLISH
PRODID:-//LogicWorks GmbH//NONSGML Contentory//EN
VERSION:2.0
CALSCALE:GREGORIAN
X-MS-OLK-FORCEINSPECTOROPEN:TRUE
BEGIN:VEVENT
DTSTAMP:20260423T182133Z
SUMMARY:IndTech 2024 – Conference on Industrial Technologies
DESCRIPTION:Die IndTech 2024 findet vom 03. – 05. Juni 2024 in Namur\, Belgien statt
 . Der Fokus der Konferenz liegt auf den industriellen Technologien.
LOCATION:Namur
CREATED:20240429T131914
LAST-MODIFIED:20240429T131914
DTSTART;VALUE=DATE:20240603T120000
DTEND;VALUE=DATE:20240605T170000
UID:sn_998_date_0@logic-works.net
END:VEVENT
END:VCALENDAR