BEGIN:VCALENDAR
METHOD:PUBLISH
PRODID:-//LogicWorks GmbH//NONSGML Contentory//EN
VERSION:2.0
CALSCALE:GREGORIAN
X-MS-OLK-FORCEINSPECTOROPEN:TRUE
BEGIN:VEVENT
DTSTAMP:20260424T203508Z
SUMMARY:IDEAL-IST Full Proposal Check – Digital Calls in Horizon Europe – Sept
 ember 2024
DESCRIPTION:Das europäische NKS-Netzwerk IDEAL-IST bietet Anfang September für die A
 usschreibungen im Cluster 4 mit Deadline im September wieder einen Full Pr
 oposal Check durch erfahrene Gutachterinnen und Gutachter an.
LOCATION:online
CREATED:20240812T115828
LAST-MODIFIED:20240812T115834
DTSTART;VALUE=DATE:20240902T000000
DTEND;VALUE=DATE:20240906T235959
UID:sn_1193_date_0@logic-works.net
END:VEVENT
END:VCALENDAR