BEGIN:VCALENDAR
METHOD:PUBLISH
PRODID:-//LogicWorks GmbH//NONSGML Contentory//EN
VERSION:2.0
CALSCALE:GREGORIAN
X-MS-OLK-FORCEINSPECTOROPEN:TRUE
BEGIN:VEVENT
DTSTAMP:20260423T133953Z
SUMMARY:IDEAL-IST Full Proposal Check für Cluster 4 Destinations 3\, 4 & 6
DESCRIPTION:Die NKS DIT lädt die deutschen Antragstellenden im Cluster 4 zum Full Pro
 posal Check des NKS-Netzwerks IDEAL-IST ein\, welcher zwischen dem 27.02. 
 und 02.03. online stattfinden wird und sich an die Antragstellenden in Clu
 ster 4 Ausschreibungen mit Einreichungsfrist 29.03.23 richtet.
LOCATION:online
CREATED:20230123T133950
LAST-MODIFIED:20230123T140004
DTSTART;VALUE=DATE:20230227T000000
DTEND;VALUE=DATE:20230302T235959
UID:sn_695_date_0@logic-works.net
END:VEVENT
END:VCALENDAR