BEGIN:VCALENDAR
METHOD:PUBLISH
PRODID:-//LogicWorks GmbH//NONSGML Contentory//EN
VERSION:2.0
CALSCALE:GREGORIAN
X-MS-OLK-FORCEINSPECTOROPEN:TRUE
BEGIN:VEVENT
DTSTAMP:20260423T140029Z
SUMMARY:Horizont Europa Digital - Face2Face Brokerage
DESCRIPTION:Die Ideal-ist Face2Face Online-Brokerage-Veranstaltung
LOCATION:online
CREATED:20210615T152443
LAST-MODIFIED:20210615T172731
DTSTART;VALUE=DATE:20210624T000000
DTEND;VALUE=DATE:20210625T235959
UID:sn_240_date_0@logic-works.net
END:VEVENT
END:VCALENDAR