BEGIN:VCALENDAR
METHOD:PUBLISH
PRODID:-//LogicWorks GmbH//NONSGML Contentory//EN
VERSION:2.0
CALSCALE:GREGORIAN
X-MS-OLK-FORCEINSPECTOROPEN:TRUE
BEGIN:VEVENT
DTSTAMP:20260423T182226Z
SUMMARY:IAM-I Symposium
DESCRIPTION:Diese ganztägige Veranstaltung bringt die Community für fortschrittliche
  Werkstoffe zusammen\, um die Ergebnisse der IAM-I-Arbeitsgruppen und Task
  Forces zu diskutieren.
LOCATION:Thon Bristol Stephanie Hotel
CREATED:20251009T161416
LAST-MODIFIED:20251009T162451
DTSTART;VALUE=DATE:20251211T090000
DTEND;VALUE=DATE:20251211T200000
UID:sn_1832_date_0@logic-works.net
END:VEVENT
END:VCALENDAR