BEGIN:VCALENDAR
METHOD:PUBLISH
PRODID:-//LogicWorks GmbH//NONSGML Contentory//EN
VERSION:2.0
CALSCALE:GREGORIAN
X-MS-OLK-FORCEINSPECTOROPEN:TRUE
BEGIN:VEVENT
DTSTAMP:20260423T140334Z
SUMMARY:Horizont Europa Kompakt: Wie überzeugt man einen Gutachter?
DESCRIPTION:Das Enterprise Europe Network (EEN) Berlin-Brandenburg veranstaltet am 12.
  August 2021 in der Seminarreihe „Horizont Europa Kompakt“ einen Austa
 usch zum Thema „Wie überzeugen Sie einen Gutachter von Ihrem Antrag?“
 .
LOCATION:Online
CREATED:20210729T091750
LAST-MODIFIED:20210729T091750
DTSTART;VALUE=DATE:20210812T130000
DTEND;VALUE=DATE:20210812T140000
UID:sn_273_date_0@logic-works.net
END:VEVENT
END:VCALENDAR