BEGIN:VCALENDAR
METHOD:PUBLISH
PRODID:-//LogicWorks GmbH//NONSGML Contentory//EN
VERSION:2.0
CALSCALE:GREGORIAN
X-MS-OLK-FORCEINSPECTOROPEN:TRUE
BEGIN:VEVENT
DTSTAMP:20260424T002223Z
SUMMARY:Horizont Europa Cluster 6 – Ihr Einstieg in die Fördermöglichkeiten im
  Bereich Bioökonomie und Umwelt
DESCRIPTION:Das Cluster 6 in Horizont Europa bietet umfangreiche Ausschreibungen im Be
 reich „Lebensmittel\, Bioökonomie\, natürliche Ressourcen\, Landwirtsc
 haft und Umwelt“. In dieser speziell an Newcomer gerichteten Information
 sveranstaltung gibt Ihnen die NKS Bioökonomie und Umwelt einen Überblick
  über die Fördermöglichkeiten im Cluster 6 „Lebensmittel\, Bioökonom
 ie\, natürliche Ressourcen\, Landwirtschaft und Umwelt“.
LOCATION:Online
CREATED:20230227T140450
LAST-MODIFIED:20230227T142306
DTSTART;VALUE=DATE:20230323T100000
DTEND;VALUE=DATE:20230323T120000
UID:sn_723_date_0@logic-works.net
END:VEVENT
END:VCALENDAR