BEGIN:VCALENDAR
METHOD:PUBLISH
PRODID:-//LogicWorks GmbH//NONSGML Contentory//EN
VERSION:2.0
CALSCALE:GREGORIAN
X-MS-OLK-FORCEINSPECTOROPEN:TRUE
BEGIN:VEVENT
DTSTAMP:20260423T165943Z
SUMMARY:Horizont Europa: Innovative Werkstoffe in der EU-Forschungsförderung
DESCRIPTION:Die NKS DIT informiert im Rahmen einer von der IHK Schwarzwald-Baar-Heuber
 g organisierten Online-Veranstaltung am 24. Januar über die Möglichkeite
 n der EU-Forschungsförderung von innovativen Werkstoffen.
LOCATION:Online
CREATED:20221222T155825
LAST-MODIFIED:20221222T155825
DTSTART;VALUE=DATE:20230124T170000
DTEND;VALUE=DATE:20230124T180000
UID:sn_673_date_0@logic-works.net
END:VEVENT
END:VCALENDAR