BEGIN:VCALENDAR
METHOD:PUBLISH
PRODID:-//LogicWorks GmbH//NONSGML Contentory//EN
VERSION:2.0
CALSCALE:GREGORIAN
X-MS-OLK-FORCEINSPECTOROPEN:TRUE
BEGIN:VEVENT
DTSTAMP:20260423T080233Z
SUMMARY:Infoveranstaltung „Horizont Europa - Fördermöglichkeiten im Bereich Di
 gitalisierung & industrielle Technologien“
DESCRIPTION:In Kooperation mit der NKS DIT stellt das Steinbeis Europa Zentrum (SEZ) i
 n diesem Online-Seminar die kommenden Horizont-Europa-Ausschreibungen im B
 ereich Digitalisierung und industrielle Technologien vor.
LOCATION:Online
CREATED:20231027T151342
LAST-MODIFIED:20231027T151342
DTSTART;VALUE=DATE:20231120T100000
DTEND;VALUE=DATE:20231120T120000
UID:sn_865_date_0@logic-works.net
END:VEVENT
END:VCALENDAR