BEGIN:VCALENDAR
METHOD:PUBLISH
PRODID:-//LogicWorks GmbH//NONSGML Contentory//EN
VERSION:2.0
CALSCALE:GREGORIAN
X-MS-OLK-FORCEINSPECTOROPEN:TRUE
BEGIN:VEVENT
DTSTAMP:20260422T183959Z
SUMMARY:Horizont Europa entschlüsselt Block 2: KI und Robotik
DESCRIPTION:Veranstalter: NKS Bioökonomie und Umwelt & NKS Digitale und Industrielle 
 TechnologienDie Veranstaltung richtet sich an alle\, die daran interessier
 t sind\, einen Antrag im Rahmen der Ausschreibungen der Missionsarbeitspro
 gramme oder des Cluster-6-Arbeitsprogramms für das Jahr 2025 einzureichen
 . Nutzen Sie diese Chance zur optimalen Vorbereitung!
LOCATION:online
CREATED:20250707T130137
LAST-MODIFIED:20250707T131702
DTSTART;VALUE=DATE:20250730T100000
DTEND;VALUE=DATE:20250730T113000
UID:sn_1654_date_0@logic-works.net
END:VEVENT
END:VCALENDAR