BEGIN:VCALENDAR
METHOD:PUBLISH
PRODID:-//LogicWorks GmbH//NONSGML Contentory//EN
VERSION:2.0
CALSCALE:GREGORIAN
X-MS-OLK-FORCEINSPECTOROPEN:TRUE
BEGIN:VEVENT
DTSTAMP:20260423T162903Z
SUMMARY:Horizon IP Scan - Info Session
DESCRIPTION:In einer 20-minütigen Session informiert der IP Helpdesk alle Interessier
 ten über die Hintergründe der Innovationsunterstützungsinitiative der E
 U-Kommission.
LOCATION:Online
CREATED:20230222T095304
LAST-MODIFIED:20230302T092450
DTSTART;VALUE=DATE:20230309T160000
DTEND;VALUE=DATE:20230309T163000
UID:sn_721_date_0@logic-works.net
END:VEVENT
END:VCALENDAR