BEGIN:VCALENDAR
METHOD:PUBLISH
PRODID:-//LogicWorks GmbH//NONSGML Contentory//EN
VERSION:2.0
CALSCALE:GREGORIAN
X-MS-OLK-FORCEINSPECTOROPEN:TRUE
BEGIN:VEVENT
DTSTAMP:20260423T195102Z
SUMMARY:Horizon Implementation Days
DESCRIPTION:Die Europäische Kommission veranstaltet im Oktober eine Webinar-Reihe bet
 itelt 'Horizon Europe Implementation Days'. Diese behandelt Themen wie die
  Vorbereitung der Finanzhilfevereinbarung (Grant Agreement) und die Einre
 ichung von Anträgen.
LOCATION:Online
CREATED:20230725T153511
LAST-MODIFIED:20260423T195102
DTSTART;VALUE=DATE:20231005T093000
DTEND;VALUE=DATE:20231005T235959
UID:sn_801_date_0@logic-works.net
END:VEVENT
END:VCALENDAR