BEGIN:VCALENDAR
METHOD:PUBLISH
PRODID:-//LogicWorks GmbH//NONSGML Contentory//EN
VERSION:2.0
CALSCALE:GREGORIAN
X-MS-OLK-FORCEINSPECTOROPEN:TRUE
BEGIN:VEVENT
DTSTAMP:20260423T121836Z
SUMMARY:Horizon Implementation Day: Grant Agreement Preparation in Horizon Europe
DESCRIPTION:In der Veranstaltung informiert die EU-Kommission Teilnehmende über die e
 rforderlichen Schritte zur Vorbereitung von Finanzhilfevereinbarungen in H
 orizont Europa.
LOCATION:Online
CREATED:20250116T141713
LAST-MODIFIED:20250116T141713
DTSTART;VALUE=DATE:20250320T093000
DTEND;VALUE=DATE:20250320T124500
UID:sn_1381_date_0@logic-works.net
END:VEVENT
END:VCALENDAR