BEGIN:VCALENDAR
METHOD:PUBLISH
PRODID:-//LogicWorks GmbH//NONSGML Contentory//EN
VERSION:2.0
CALSCALE:GREGORIAN
X-MS-OLK-FORCEINSPECTOROPEN:TRUE
BEGIN:VEVENT
DTSTAMP:20260423T132928Z
SUMMARY:Horizon Implementation Day: Finding opportunities and submitting a proposa
 l in Horizon Europe
DESCRIPTION:In der Veranstaltung informiert die EU-Kommission Teilnehmende darüber\, 
 wie sie Fördermöglichkeiten identifizieren und einen Projektvorschlag in
  Horizont Europa einreichen können.
LOCATION:Online
CREATED:20240909T110352
LAST-MODIFIED:20240909T110352
DTSTART;VALUE=DATE:20240926T093000
DTEND;VALUE=DATE:20240926T123000
UID:sn_1223_date_0@logic-works.net
END:VEVENT
END:VCALENDAR