BEGIN:VCALENDAR
METHOD:PUBLISH
PRODID:-//LogicWorks GmbH//NONSGML Contentory//EN
VERSION:2.0
CALSCALE:GREGORIAN
X-MS-OLK-FORCEINSPECTOROPEN:TRUE
BEGIN:VEVENT
DTSTAMP:20260423T122056Z
SUMMARY:Horizon Europe Info Days - Cluster 4
DESCRIPTION:Die Europäische Kommission veranstaltet am 11.10.2023 und 12.10.2023 Info
 rmationstage zu Cluster 4 (Digitalisierung\, Industrie und Weltraum) in Ho
 rizont Europa.
LOCATION:Online
CREATED:20230623T151647
LAST-MODIFIED:20230623T152052
DTSTART;VALUE=DATE:20231011T100000
DTEND;VALUE=DATE:20231012T150000
UID:sn_786_date_0@logic-works.net
END:VEVENT
END:VCALENDAR