BEGIN:VCALENDAR
METHOD:PUBLISH
PRODID:-//LogicWorks GmbH//NONSGML Contentory//EN
VERSION:2.0
CALSCALE:GREGORIAN
X-MS-OLK-FORCEINSPECTOROPEN:TRUE
BEGIN:VEVENT
DTSTAMP:20260422T130844Z
SUMMARY:Horizon Europe Info Day
DESCRIPTION:Das Malta Council for Science and Technology veranstaltet am 25. Januar 20
 22 einen Informationstag zu Horizont Europa. Darüber hinaus wird eine beg
 leitende Brokerage Session für alle Teilnehmenden angeboten.
LOCATION:Online
CREATED:20220112T140115
LAST-MODIFIED:20220112T140115
DTSTART;VALUE=DATE:20220125T090000
DTEND;VALUE=DATE:20220125T133000
UID:sn_374_date_0@logic-works.net
END:VEVENT
END:VCALENDAR