BEGIN:VCALENDAR
METHOD:PUBLISH
PRODID:-//LogicWorks GmbH//NONSGML Contentory//EN
VERSION:2.0
CALSCALE:GREGORIAN
X-MS-OLK-FORCEINSPECTOROPEN:TRUE
BEGIN:VEVENT
DTSTAMP:20260422T183928Z
SUMMARY:Horizon Europe Industry 2024 Brokerage Event
DESCRIPTION:NCP4Industry und das Enterprise Europe Network veranstalten ergänzend zu 
 den Cluster 4 Infotagen der EU-Kommission ein online Brokerage Event.
LOCATION:Online
CREATED:20231016T143026
LAST-MODIFIED:20231016T143026
DTSTART;VALUE=DATE:20231019T100000
DTEND;VALUE=DATE:20231019T190000
UID:sn_851_date_0@logic-works.net
END:VEVENT
END:VCALENDAR