BEGIN:VCALENDAR
METHOD:PUBLISH
PRODID:-//LogicWorks GmbH//NONSGML Contentory//EN
VERSION:2.0
CALSCALE:GREGORIAN
X-MS-OLK-FORCEINSPECTOROPEN:TRUE
BEGIN:VEVENT
DTSTAMP:20260422T012452Z
SUMMARY:Horizon Europe Coordinatorsâ€™ Day: Grant Management
DESCRIPTION:Am 08.06.2023 informiert die EU-Kommission von 09:30 CEST bis 12:45 CEST Ă
 Ľber das Grant Management in Horizont Europa.
LOCATION:Online
CREATED:20230403T114719
LAST-MODIFIED:20230403T114719
DTSTART;VALUE=DATE:20230608T093000
DTEND;VALUE=DATE:20230608T124500
UID:sn_743_date_0@logic-works.net
END:VEVENT
END:VCALENDAR