BEGIN:VCALENDAR
METHOD:PUBLISH
PRODID:-//LogicWorks GmbH//NONSGML Contentory//EN
VERSION:2.0
CALSCALE:GREGORIAN
X-MS-OLK-FORCEINSPECTOROPEN:TRUE
BEGIN:VEVENT
DTSTAMP:20260424T002605Z
SUMMARY:Horizon Europe Cluster 4 Digital - 2024 CallsInfo Day Pitch & Networking w
 orkshopsAppointments with NCPs (National Contact Points)
DESCRIPTION:Das französische NKS-Team für Digitales im Cluster 4 organisiert ein Mat
 chmaking-Event für die digitalen Calls 2024 in Paris - ein 100% physische
 r Informationstag mit Pitch-Sessions zu den 17 digitalen Ausschreibungen i
 n Horizon Europe Cluster 4.
LOCATION:French Ministry of Higher Education and Research (MESR)
CREATED:20230912T144600
LAST-MODIFIED:20230913T082317
DTSTART;VALUE=DATE:20231006T090000
DTEND;VALUE=DATE:20231006T160000
UID:sn_830_date_0@logic-works.net
END:VEVENT
END:VCALENDAR