BEGIN:VCALENDAR
METHOD:PUBLISH
PRODID:-//LogicWorks GmbH//NONSGML Contentory//EN
VERSION:2.0
CALSCALE:GREGORIAN
X-MS-OLK-FORCEINSPECTOROPEN:TRUE
BEGIN:VEVENT
DTSTAMP:20260423T165501Z
SUMMARY:Horizon Europe Application Masterclass: Jetzt anmelden!
DESCRIPTION:Sie wollen sich bereits auf die kommenden Ausschreibungen in Horizont Euro
 pa Säule II vorbereiten? Und Sie möchten wissen\, worauf es bei der erfo
 lgreichen Antragsstellung ankommt? Erstmals in Englisch haben wir\, die Na
 tionalen Kontaktstellen „Digitale und Industrielle Technologien“ (NKS 
 DIT)\, „Klima\, Energie\, Mobilität“ (NKS KEM) und „Bioökonomie un
 d Umwelt“ (NKS B&U)\, genau das richtige Angebot: vom 19. bis 20. Novemb
 er 2024 veranstalten wir einen Online-Workshop zur Antragsstellung!
LOCATION:Online
CREATED:20241007T162948
LAST-MODIFIED:20241008T075450
DTSTART;VALUE=DATE:20241119T090000
DTEND;VALUE=DATE:20241120T130000
UID:sn_1252_date_0@logic-works.net
END:VEVENT
END:VCALENDAR