BEGIN:VCALENDAR
METHOD:PUBLISH
PRODID:-//LogicWorks GmbH//NONSGML Contentory//EN
VERSION:2.0
CALSCALE:GREGORIAN
X-MS-OLK-FORCEINSPECTOROPEN:TRUE
BEGIN:VEVENT
DTSTAMP:20260423T195457Z
SUMMARY:Horizon Europe Coordinators' Day: Grant Agreement Preparation
DESCRIPTION:Die Europäische Kommission veranstaltet vom 26. Januar 2022 ein Webinar f
 ür erfolgreiche Projektanträge zur Vorbereitung der Finanzhilfevereinbar
 ung in Horizont Europa.
LOCATION:Online
CREATED:20211210T093657
LAST-MODIFIED:20211210T095526
DTSTART;VALUE=DATE:20220126T093000
DTEND;VALUE=DATE:20220126T124500
UID:sn_354_date_0@logic-works.net
END:VEVENT
END:VCALENDAR