BEGIN:VCALENDAR
METHOD:PUBLISH
PRODID:-//LogicWorks GmbH//NONSGML Contentory//EN
VERSION:2.0
CALSCALE:GREGORIAN
X-MS-OLK-FORCEINSPECTOROPEN:TRUE
BEGIN:VEVENT
DTSTAMP:20260423T164812Z
SUMMARY:Horizont Europa Informationstag zu Cluster 4: KI\, Daten und Robotik
DESCRIPTION:Informationstag der "AI\, Data and Robotics Association (Adra)" zu den  A
 usschreibungen in Cluster 4 von Horizont Europa
LOCATION:online
CREATED:20210712T130755
LAST-MODIFIED:20210712T131838
DTSTART;VALUE=DATE:20210721T093000
DTEND;VALUE=DATE:20210721T130000
UID:sn_260_date_0@logic-works.net
END:VEVENT
END:VCALENDAR