BEGIN:VCALENDAR
METHOD:PUBLISH
PRODID:-//LogicWorks GmbH//NONSGML Contentory//EN
VERSION:2.0
CALSCALE:GREGORIAN
X-MS-OLK-FORCEINSPECTOROPEN:TRUE
BEGIN:VEVENT
DTSTAMP:20260423T164146Z
SUMMARY:1. Informationstag Horizont Europa Cluster 3 und Brokerage-Veranstaltung
DESCRIPTION:Die Veranstaltung wird organisiert vom â€žSecurity Research NCP-Netzwerkâ€
 œ (SEREN4) in enger Zusammenarbeit mit der EuropÃ¤ischen Kommission
LOCATION:online
CREATED:20210625T113638
LAST-MODIFIED:20210625T113638
DTSTART;VALUE=DATE:20210630T093000
DTEND;VALUE=DATE:20210701T180000
UID:sn_246_date_0@logic-works.net
END:VEVENT
END:VCALENDAR