BEGIN:VCALENDAR
METHOD:PUBLISH
PRODID:-//LogicWorks GmbH//NONSGML Contentory//EN
VERSION:2.0
CALSCALE:GREGORIAN
X-MS-OLK-FORCEINSPECTOROPEN:TRUE
BEGIN:VEVENT
DTSTAMP:20260423T182154Z
SUMMARY:Informationsveranstaltung zum Horizont Europa  „Cloud-Edge-IOT-Call 202
 2“  mit anschließendem Brokerage-Event
DESCRIPTION:Informationsveranstaltung der EU-Kommission zum Horizont Europa „Cloud-E
 dge-IOT-Call 2022“ mit anschließenden Pitch-Sessions und Brokerage-Even
 t
LOCATION:online
CREATED:20220127T123158
LAST-MODIFIED:20220127T124421
DTSTART;VALUE=DATE:20220202T093000
DTEND;VALUE=DATE:20220202T180000
UID:sn_387_date_0@logic-works.net
END:VEVENT
END:VCALENDAR