BEGIN:VCALENDAR
METHOD:PUBLISH
PRODID:-//LogicWorks GmbH//NONSGML Contentory//EN
VERSION:2.0
CALSCALE:GREGORIAN
X-MS-OLK-FORCEINSPECTOROPEN:TRUE
BEGIN:VEVENT
DTSTAMP:20260423T062102Z
SUMMARY:Horizont Europa Antragstellerworkshop: Robotik & Künstliche Intelligenz
DESCRIPTION:Informatives Webinar zu den Robotik- & KI-Calls aus Cluster 4
LOCATION:online
CREATED:20230914T132107
LAST-MODIFIED:20230914T132556
DTSTART;VALUE=DATE:20231006T090000
DTEND;VALUE=DATE:20231006T101500
UID:sn_832_date_0@logic-works.net
END:VEVENT
END:VCALENDAR