BEGIN:VCALENDAR
METHOD:PUBLISH
PRODID:-//LogicWorks GmbH//NONSGML Contentory//EN
VERSION:2.0
CALSCALE:GREGORIAN
X-MS-OLK-FORCEINSPECTOROPEN:TRUE
BEGIN:VEVENT
DTSTAMP:20260423T164410Z
SUMMARY:Horizon Europe Cluster 4 and 6 Inward Multilateral Brokerage Event
DESCRIPTION:Innovate UK veranstaltet am 10.-11. Juni 2026 ein multilaterales Brokerage
  Event in Darlington (UK). Bewerbungen aus dem Vereinigten Königreich und
  ausgewählten EU-Mitgliedstaaten\, darunter auch Deutschland sind willkom
 men.
LOCATION:CPI - The Nigel Perry Building
CREATED:20260423T093218
LAST-MODIFIED:20260423T093218
DTSTART;VALUE=DATE:20260610T120000
DTEND;VALUE=DATE:20260611T140000
UID:sn_2218_date_0@logic-works.net
END:VEVENT
END:VCALENDAR