BEGIN:VCALENDAR
METHOD:PUBLISH
PRODID:-//LogicWorks GmbH//NONSGML Contentory//EN
VERSION:2.0
CALSCALE:GREGORIAN
X-MS-OLK-FORCEINSPECTOROPEN:TRUE
BEGIN:VEVENT
DTSTAMP:20260423T165047Z
SUMMARY:Gutachterin im Gespräch: Einblicke in das europäische Begutachtungsverfa
 hren und Tipps für den Endspurt
DESCRIPTION:Die Nationale Kontaktstelle Sicherheitsforschung lädt Sie zu einer virtue
 llen Veranstaltung ein\, um Fragen zum Begutachtungsprozess bei EU-Anträg
 en zu klären. 
LOCATION:online
CREATED:20230915T111801
LAST-MODIFIED:20230918T120857
DTSTART;VALUE=DATE:20231020T090000
DTEND;VALUE=DATE:20231020T103000
UID:sn_834_date_0@logic-works.net
END:VEVENT
END:VCALENDAR