BEGIN:VCALENDAR
METHOD:PUBLISH
PRODID:-//LogicWorks GmbH//NONSGML Contentory//EN
VERSION:2.0
CALSCALE:GREGORIAN
X-MS-OLK-FORCEINSPECTOROPEN:TRUE
BEGIN:VEVENT
DTSTAMP:20260423T122437Z
SUMMARY:Gutachter für Horizont Europa gesucht – Info-Day
DESCRIPTION:Die Europäische Kommission sucht Gutachterinnen und Gutachter mit Fachken
 ntnissen zur Bewertung und Begleitung von Anträgen und Projekten im Rahme
 n von Horizont Europa.
LOCATION:online
CREATED:20250613T100355
LAST-MODIFIED:20250613T100358
DTSTART;VALUE=DATE:20250619T093000
DTEND;VALUE=DATE:20250619T123000
UID:sn_1619_date_0@logic-works.net
END:VEVENT
END:VCALENDAR