BEGIN:VCALENDAR
METHOD:PUBLISH
PRODID:-//LogicWorks GmbH//NONSGML Contentory//EN
VERSION:2.0
CALSCALE:GREGORIAN
X-MS-OLK-FORCEINSPECTOROPEN:TRUE
BEGIN:VEVENT
DTSTAMP:20260423T121440Z
SUMMARY:Gutachter/innen berichten: Einblicke in das Horizont Europa Begutachtungsv
 erfahren
DESCRIPTION:Ein Antrag hat in der Begutachtung überzeugt – doch was genau führt zu
 m Erfolg? Gutachterinnen und Gutachter und die NKS Bioökonomie und Umwelt
  teilen  in einer Online-Veranstaltung persönliche Erfahrungen\, geben p
 raktische Tipps für einen gelungenen Antrag und erklären den Prozess der
  Begutachtung.
LOCATION:Online
CREATED:20221215T084816
LAST-MODIFIED:20221215T084816
DTSTART;VALUE=DATE:20230110T100000
DTEND;VALUE=DATE:20230110T123000
UID:sn_659_date_0@logic-works.net
END:VEVENT
END:VCALENDAR