BEGIN:VCALENDAR
METHOD:PUBLISH
PRODID:-//LogicWorks GmbH//NONSGML Contentory//EN
VERSION:2.0
CALSCALE:GREGORIAN
X-MS-OLK-FORCEINSPECTOROPEN:TRUE
BEGIN:VEVENT
DTSTAMP:20260422T193916Z
SUMMARY:So what does "Gender Dimension in Research" actually mean? - An overview a
 cross disciplines
DESCRIPTION:Am 09. Juni richtet die Kontaktstelle Frauen in die EU-Forschung (FiF) ein
 e englischsprachige Online-Veranstaltung zu Genderaspekten in Horizont Eur
 opa aus.
LOCATION:Online
CREATED:20260422T134628
LAST-MODIFIED:20260422T134820
DTSTART;VALUE=DATE:20260609T093000
DTEND;VALUE=DATE:20260609T130000
UID:sn_2215_date_0@logic-works.net
END:VEVENT
END:VCALENDAR