BEGIN:VCALENDAR
METHOD:PUBLISH
PRODID:-//LogicWorks GmbH//NONSGML Contentory//EN
VERSION:2.0
CALSCALE:GREGORIAN
X-MS-OLK-FORCEINSPECTOROPEN:TRUE
BEGIN:VEVENT
DTSTAMP:20260423T133902Z
SUMMARY:The Future of EU Steel Research - How to foster EU steel leadership
DESCRIPTION:Am 26. November 2025 findet die Veranstaltung „The Future of EU Steel Re
 search - How to foster EU steel leadership“ in Mönchengladbach und onli
 ne statt. Dort werden relevante Ergebnisse der RFCS-Projekte vorgestellt\,
  um zu zeigen\, wie diese die europäische Stahlindustrie durch Dekarbonis
 ierung\, Kreislaufwirtschaft und industrielle Symbiose verändern.
LOCATION:SMS Group Campus/ Online
CREATED:20251029T141102
LAST-MODIFIED:20251029T145344
DTSTART;VALUE=DATE:20251126T093000
DTEND;VALUE=DATE:20251126T163000
UID:sn_1897_date_0@logic-works.net
END:VEVENT
END:VCALENDAR