BEGIN:VCALENDAR
METHOD:PUBLISH
PRODID:-//LogicWorks GmbH//NONSGML Contentory//EN
VERSION:2.0
CALSCALE:GREGORIAN
X-MS-OLK-FORCEINSPECTOROPEN:TRUE
BEGIN:VEVENT
DTSTAMP:20260423T122417Z
SUMMARY:The Funding & Tenders Portal for Beginners
DESCRIPTION:Informationsveranstaltung für Neueinsteiger in die europäische Forschung
 sförderung zur Nutzung des „Funding & Tenders Portals“\, der zentrale
 n Plattform für die Antragstellung und Projektdokumentation der EU-Kommis
 sion.
LOCATION:Online
CREATED:20210506T143223
LAST-MODIFIED:20210506T151657
DTSTART;VALUE=DATE:20210527T100000
DTEND;VALUE=DATE:20210527T123000
UID:sn_223_date_0@logic-works.net
END:VEVENT
END:VCALENDAR