BEGIN:VCALENDAR
METHOD:PUBLISH
PRODID:-//LogicWorks GmbH//NONSGML Contentory//EN
VERSION:2.0
CALSCALE:GREGORIAN
X-MS-OLK-FORCEINSPECTOROPEN:TRUE
BEGIN:VEVENT
DTSTAMP:20260423T062612Z
SUMMARY:Full Proposal Check für Cluster 4 Destinations 1 und 2
DESCRIPTION:Das NCP4Industry-Netzwerk organisiert diese Veranstaltung\, um Antragstell
 enden die Möglichkeit zu bieten\, Feedback zur Optimierung ihrer Projekta
 nträge von erfahrenen NKS Kolleginnen und Kollegen und EU-Gutachterinnen 
 und Gutachtern zu erhalten
LOCATION:Online
CREATED:20231220T145411
LAST-MODIFIED:20231220T145411
DTSTART;VALUE=DATE:20240123T000000
DTEND;VALUE=DATE:20240126T235959
UID:sn_913_date_0@logic-works.net
END:VEVENT
END:VCALENDAR