BEGIN:VCALENDAR
METHOD:PUBLISH
PRODID:-//LogicWorks GmbH//NONSGML Contentory//EN
VERSION:2.0
CALSCALE:GREGORIAN
X-MS-OLK-FORCEINSPECTOROPEN:TRUE
BEGIN:VEVENT
DTSTAMP:20260424T060130Z
SUMMARY:NKS DIT Veranstaltung: Fördermöglichkeiten in den digitalen Technologien
 : Deutschland und Europa
DESCRIPTION:Am Mittwoch\, den 20.11.2024\, 09:00 – 12:00 Uhr findet die Informations
 veranstaltung „Fördermöglichkeiten in den digitalen Technologien: Deut
 schland und Europa“ online statt. Gemeinsam mit weiteren Beratungsstelle
 n informiert die NKS DIT breitgefächert über nationale und international
 e Programme zur Forschungsförderung.
LOCATION:online
CREATED:20240904T152905
LAST-MODIFIED:20240909T181642
DTSTART;VALUE=DATE:20241120T090000
DTEND;VALUE=DATE:20241120T120000
UID:sn_1217_date_0@logic-works.net
END:VEVENT
END:VCALENDAR