BEGIN:VCALENDAR
METHOD:PUBLISH
PRODID:-//LogicWorks GmbH//NONSGML Contentory//EN
VERSION:2.0
CALSCALE:GREGORIAN
X-MS-OLK-FORCEINSPECTOROPEN:TRUE
BEGIN:VEVENT
DTSTAMP:20260423T183315Z
SUMMARY:"Ihre Fördermöglichkeiten in Horizont Europa" - Online Infoveranstaltung
  der NKS Bioökonomie
DESCRIPTION:Horizont Europa\, das neue europäische Rahmenprogramm für Forschung und 
 Innovation\, wird ab 2021 mit neuen umfangreichen Fördermöglichkeiten st
 arten.
LOCATION:Virtuell
CREATED:20200930T110154
LAST-MODIFIED:20220803T092034
DTSTART;VALUE=DATE:20201109T000000
DTEND;VALUE=DATE:20201111T235959
UID:sn_81_date_0@logic-works.net
END:VEVENT
END:VCALENDAR