BEGIN:VCALENDAR
METHOD:PUBLISH
PRODID:-//LogicWorks GmbH//NONSGML Contentory//EN
VERSION:2.0
CALSCALE:GREGORIAN
X-MS-OLK-FORCEINSPECTOROPEN:TRUE
BEGIN:VEVENT
DTSTAMP:20260425T175641Z
SUMMARY:Förder- und Finanzierungsmöglichkeiten für digitale Projekte
DESCRIPTION:Am 26. Juni 2024 organisieren das Enterprise Europe Network/IB.SH Europa u
 nd der European Digital Innovation Hub Schleswig-Holstein (EDIH.SH) eine V
 eranstaltung\, bei der verschiedene Fördermöglichkeiten für digitale Pr
 ojekte vorgestellt werden.
LOCATION:Investitionsbank Schleswig-Holstein (IB.SH)
CREATED:20240607T150858
LAST-MODIFIED:20240607T152023
DTSTART;VALUE=DATE:20240626T133000
DTEND;VALUE=DATE:20240626T163000
UID:sn_1114_date_0@logic-works.net
END:VEVENT
END:VCALENDAR