BEGIN:VCALENDAR
METHOD:PUBLISH
PRODID:-//LogicWorks GmbH//NONSGML Contentory//EN
VERSION:2.0
CALSCALE:GREGORIAN
X-MS-OLK-FORCEINSPECTOROPEN:TRUE
BEGIN:VEVENT
DTSTAMP:20260422T110807Z
SUMMARY:Künstliche Intelligenz im europäischen Innovationsökosystem
DESCRIPTION:Das Enterprise Europe Network (EEN) lädt vom 30.11.2022 bis 01.12.2022 zu
  einem Brokerage Event\, welches sich gezielt an die europäischen Stakeh
 older im Bereich KI richtet\, nach Belgien ein.
LOCATION:Van der Valk Hotel\, Belgien
CREATED:20221017T121813
LAST-MODIFIED:20221017T123319
DTSTART;VALUE=DATE:20221130T093000
DTEND;VALUE=DATE:20221201T130000
UID:sn_619_date_0@logic-works.net
END:VEVENT
END:VCALENDAR