BEGIN:VCALENDAR
METHOD:PUBLISH
PRODID:-//LogicWorks GmbH//NONSGML Contentory//EN
VERSION:2.0
CALSCALE:GREGORIAN
X-MS-OLK-FORCEINSPECTOROPEN:TRUE
BEGIN:VEVENT
DTSTAMP:20260423T164344Z
SUMMARY:Online Seminar-Reihe "Fit für Ihren Antrag: Von Cluster 6 bis zur Antrags
 tellung"
DESCRIPTION:Die Nationale Kontaktstelle Bioökonomie und Umwelt (NKS B&U) veranstaltet
  vom 15. Juni bis zum 21. Juli 2021 (jeweils von 10:00 Uhr bis ca. 11:15 U
 hr) eine Online-Seminar-Reihe für Interessierte am neuen EU-Forschungsrah
 menprogramm Horizont Europa.
LOCATION:online
CREATED:20210528T120502
LAST-MODIFIED:20210528T131456
DTSTART;VALUE=DATE:20210615T000000
DTEND;VALUE=DATE:20210721T235959
UID:sn_232_date_0@logic-works.net
END:VEVENT
END:VCALENDAR