BEGIN:VCALENDAR
METHOD:PUBLISH
PRODID:-//LogicWorks GmbH//NONSGML Contentory//EN
VERSION:2.0
CALSCALE:GREGORIAN
X-MS-OLK-FORCEINSPECTOROPEN:TRUE
BEGIN:VEVENT
DTSTAMP:20260423T165149Z
SUMMARY:Vermeidung von Fehlern bei der Deklaration von Personalkosten in Horizont2
 020-Zuschüssen
DESCRIPTION:Die Europäische Kommission lädt zu einer Webinar-Sitzung ein.
LOCATION:online
CREATED:20220905T104728
LAST-MODIFIED:20220907T095933
DTSTART;VALUE=DATE:20220927T100000
DTEND;VALUE=DATE:20220927T120000
UID:sn_584_date_0@logic-works.net
END:VEVENT
END:VCALENDAR