BEGIN:VCALENDAR
METHOD:PUBLISH
PRODID:-//LogicWorks GmbH//NONSGML Contentory//EN
VERSION:2.0
CALSCALE:GREGORIAN
X-MS-OLK-FORCEINSPECTOROPEN:TRUE
BEGIN:VEVENT
DTSTAMP:20260423T162755Z
SUMMARY:FAME: Future of Advanced Materials in Europe
DESCRIPTION:Dieser vom Technology Council for Advanced Materials organisierte Workshop
  thematisiert die Hindernisse bei Investitionen in fortschrittliche Materi
 alien\, deren Einführung und Verbreitung.
LOCATION:University of Aveiro
CREATED:20251009T150537
LAST-MODIFIED:20251009T160854
DTSTART;VALUE=DATE:20251126T000000
DTEND;VALUE=DATE:20251127T235959
UID:sn_1820_date_0@logic-works.net
END:VEVENT
END:VCALENDAR